BEGIN:VCALENDAR
VERSION:2.0
PRODID:icalendar-ruby
CALSCALE:GREGORIAN
METHOD:PUBLISH
BEGIN:VEVENT
DTSTAMP:20260420T074615Z
UID:214-2948261@stettlerunitedchurch.org
DTSTART:20261018T170000Z
DTEND:20261018T180000Z
CLASS:PUBLIC
CREATED:20260419T230944
DESCRIPTION:Please pay attention to the announcements\, event tab\, and sun
 day service tab for any changes etc to the weekly service schedule. 
LAST-MODIFIED:20260419T230944
LOCATION:
SUMMARY:Sunday Service
URL;VALUE=URI:https://www.stettlerunitedchurch.org/events/sunday-service--2
 14/2026-10-18
END:VEVENT
END:VCALENDAR
