BEGIN:VCALENDAR
VERSION:2.0
PRODID:icalendar-ruby
CALSCALE:GREGORIAN
METHOD:PUBLISH
BEGIN:VEVENT
DTSTAMP:20260422T083801Z
UID:214-2965038@stettlerunitedchurch.org
DTSTART:20261025T170000Z
DTEND:20261025T180000Z
CLASS:PUBLIC
CREATED:20260421T173802
DESCRIPTION:Please pay attention to the announcements\, event tab\, and sun
 day service tab for any changes etc to the weekly service schedule. 
LAST-MODIFIED:20260421T173802
LOCATION:
SUMMARY:Sunday Service
URL;VALUE=URI:https://www.stettlerunitedchurch.org/events/sunday-service--2
 14/2026-10-25
END:VEVENT
END:VCALENDAR
