BEGIN:VCALENDAR
VERSION:2.0
PRODID:icalendar-ruby
CALSCALE:GREGORIAN
METHOD:PUBLISH
BEGIN:VEVENT
DTSTAMP:20260422T102559Z
UID:214-2965039@stettlerunitedchurch.org
DTSTART:20261101T180000Z
DTEND:20261101T190000Z
CLASS:PUBLIC
CREATED:20260421T173802
DESCRIPTION:Please pay attention to the announcements\, event tab\, and sun
 day service tab for any changes etc to the weekly service schedule. 
LAST-MODIFIED:20260421T173802
LOCATION:
SUMMARY:Sunday Service
URL;VALUE=URI:https://www.stettlerunitedchurch.org/events/sunday-service--2
 14/2026-11-01
END:VEVENT
END:VCALENDAR
